BEGIN:VCALENDAR
VERSION:2.0
PRODID:-//eventon.com NONSGML v1.0//EN
CALSCALE:GREGORIAN
METHOD:PUBLISH
BEGIN:VEVENT
UID:69e9e71ce402f
DTSTAMP:20260423T093212Z
DTSTART:20260628T163000Z
DTEND:20260628T215900Z
LOCATION:
SUMMARY:MSC - Achtsames Selbstmitgefühl im Hotel Maistra mit Regula Saner (5 Tage)
DESCRIPTION:MSC-Mindful Self-Compassion (Achtsames Selbstmitgefühl) im Hot
 el Maistra\nhttps://www.zentrum-fur-achtsamkeit.ch/events/msc-achtsames-sel
 bstmitgefuehl-im-hotel-maistra-5-tage/
URL:https://www.zentrum-fur-achtsamkeit.ch/events/msc-achtsames-selbstmitgefuehl-im-hotel-maistra-5-tage/
END:VEVENT
END:VCALENDAR